BEGIN:VCALENDAR
VERSION:2.0
PRODID:-//wp-events-plugin.com//5.99912//EN
TZID:Europe/Berlin
X-WR-TIMEZONE:Europe/Berlin
BEGIN:VEVENT
UID:0-279@abtsgmuend.albverein.eu
DTSTART;TZID=Europe/Berlin:20260426T130000
DTEND;TZID=Europe/Berlin:20260426T190000
DTSTAMP:20260414T165316Z
URL:https://abtsgmuend.albverein.eu/events/wir-erwandern-den-rechberg/
SUMMARY:Wir erwandern den Rechberg
DESCRIPTION:Liebe Wanderfreunde\,\nes ergeht herzliche Einladung zur Frühj
 ahrswanderung auf die Burgruine Hohenrechberg und auf den Rechberg\, den m
 ittleren der 3 Kaiserberge. Dazu treffen wir uns auf dem Parkplatz "Ostere
 n"\, bilden Fahrgemeinschaften und fahren in die Ortsmitte von Metlangen. 
 (zwischen Straßdorf und Hohenstaufen).\nDie 8-9 km Rundwanderung weist te
 ilweise leichte Steigungen auf. Wir wandern auf dem Aasrücken nach Rechbe
 rg zur Burgruine Hohenrechberg. Das Burgcafe lädt uns zu einer Kaffee-Pau
 se ein. Optionell wandert ein Teil über den Stationenweg auf den Rechberg
  zur Wallfahrtskirche hoch. Der Rückweg führt uns bergab nach Metlangen\
 , wo wir die Schlußeinkehr im Gasthaus "Stern" planen.\nDie Führung übe
 rnehmen Christl Mürdter und Martin Heselmeier. Interessierte Wanderfreund
 e melden sich bis spätestens Do\, 23.4.26 an bei Georg\, Tel. 4648 oder E
 dwin\, Tel. 5757. Treffpunkt: 13.00 Uhr Parkplatz Osteren\, Gäste sind he
 rzlich willkommen\, Mitfahrgelegenheiten vorhanden.
END:VEVENT
BEGIN:VTIMEZONE
TZID:Europe/Berlin
X-LIC-LOCATION:Europe/Berlin
BEGIN:DAYLIGHT
DTSTART:20260329T030000
TZOFFSETFROM:+0100
TZOFFSETTO:+0200
TZNAME:CEST
END:DAYLIGHT
END:VTIMEZONE
END:VCALENDAR