BEGIN:VCALENDAR
VERSION:2.0
PRODID:-//wp-events-plugin.com//5.99912//EN
TZID:Europe/Berlin
X-WR-TIMEZONE:Europe/Berlin
BEGIN:VEVENT
UID:0-278@abtsgmuend.albverein.eu
DTSTART;TZID=Europe/Berlin:20260426T090000
DTEND;TZID=Europe/Berlin:20260426T180000
DTSTAMP:20260414T163959Z
URL:https://abtsgmuend.albverein.eu/events/kalte-feld-wanderung-ist-ausgeb
 ucht/
SUMMARY:Kalte-Feld-Wanderung ist ausgebucht !
DESCRIPTION:Liebe Wanderfreunde\,\ndie von Walter Hösch geplante "Kalte-Fe
 ld-Weg"-Wanderung ist leider ausgebucht. Wir bitten um Euer Verständnis.
END:VEVENT
BEGIN:VTIMEZONE
TZID:Europe/Berlin
X-LIC-LOCATION:Europe/Berlin
BEGIN:DAYLIGHT
DTSTART:20260329T030000
TZOFFSETFROM:+0100
TZOFFSETTO:+0200
TZNAME:CEST
END:DAYLIGHT
END:VTIMEZONE
END:VCALENDAR