BEGIN:VCALENDAR
VERSION:2.0
PRODID:-//wp-events-plugin.com//5.99912//EN
TZID:Europe/Berlin
X-WR-TIMEZONE:Europe/Berlin
BEGIN:VEVENT
UID:0-281@abtsgmuend.albverein.eu
DTSTART;TZID=Europe/Berlin:20260502T120000
DTEND;TZID=Europe/Berlin:20260502T160000
DTSTAMP:20260419T075050Z
URL:https://abtsgmuend.albverein.eu/events/1-rad-sternfahrt-mit-dem-ziel-w
 anderheim-am-laubbach-stausee/
SUMMARY:1. Rad-Sternfahrt mit dem Ziel: Wanderheim am Laubbach-Stausee
DESCRIPTION:Alle OGn der Nordostalbregion sowie weitere Fahrrad-Gruppen sin
 d eingeladen im Rahmen einer Rad-Tour das Ziel Abtsgmünd anzusteuern. Ein
 treffen der Gruppen ab ca. 12.00 Uhr\, Austausch und Vernetzung der Fahrra
 d-Interessierten mit Info's im und am Wanderheim.\nFür das leibliche Wohl
  ist bestens gesorgt. Ab ca. 15.00 Uhr Rückfahrt in die Ausgangs-\nRegion
 en.\nEvtl. Fragen: Klaus Fischer: 07366-9240570 oder Eddi Streicher\, Tel.
  07366-5757
END:VEVENT
BEGIN:VTIMEZONE
TZID:Europe/Berlin
X-LIC-LOCATION:Europe/Berlin
BEGIN:DAYLIGHT
DTSTART:20260329T030000
TZOFFSETFROM:+0100
TZOFFSETTO:+0200
TZNAME:CEST
END:DAYLIGHT
END:VTIMEZONE
END:VCALENDAR