BEGIN:VCALENDAR
VERSION:2.0
PRODID:-//wp-events-plugin.com//5.99912//EN
TZID:Europe/Berlin
X-WR-TIMEZONE:Europe/Berlin
BEGIN:VEVENT
UID:0-280@abtsgmuend.albverein.eu
DTSTART;TZID=Europe/Berlin:20260501T100000
DTEND;TZID=Europe/Berlin:20260501T200000
DTSTAMP:20260419T074132Z
URL:https://abtsgmuend.albverein.eu/events/1-mai-feiertag-hocketse-am-wand
 erheim/
SUMMARY:1. Mai-Feiertag: "Hocketse am Wanderheim"
DESCRIPTION:Einladung an alle Spaziergänger\, Wanderer und Radfahrer !\n\n
 Am 1. Mai ist unser Wanderheim traditionell bereits ab 10.00 Uhr geöffnet
 . Um die Mittagszeit gibt's Leckeres vom Grill sowie Pommes.
END:VEVENT
BEGIN:VTIMEZONE
TZID:Europe/Berlin
X-LIC-LOCATION:Europe/Berlin
BEGIN:DAYLIGHT
DTSTART:20260329T030000
TZOFFSETFROM:+0100
TZOFFSETTO:+0200
TZNAME:CEST
END:DAYLIGHT
END:VTIMEZONE
END:VCALENDAR